BEGIN:VCALENDAR
VERSION:2.0
PRODID:-//AI聘 - ECPv5.10.0//NONSGML v1.0//EN
CALSCALE:GREGORIAN
METHOD:PUBLISH
X-WR-CALNAME:AI聘
X-ORIGINAL-URL:https://aipin.io
X-WR-CALDESC:Events for AI聘
BEGIN:VTIMEZONE
TZID:America/Los_Angeles
BEGIN:DAYLIGHT
TZOFFSETFROM:-0800
TZOFFSETTO:-0700
TZNAME:PDT
DTSTART:20200308T100000
END:DAYLIGHT
BEGIN:STANDARD
TZOFFSETFROM:-0700
TZOFFSETTO:-0800
TZNAME:PST
DTSTART:20201101T090000
END:STANDARD
END:VTIMEZONE
BEGIN:VEVENT
DTSTART;TZID=America/Los_Angeles:20200718T100000
DTEND;TZID=America/Los_Angeles:20200718T230000
DTSTAMP:20260422T140043
CREATED:20200810T085224Z
LAST-MODIFIED:20200810T085243Z
UID:5504-1595066400-1595113200@aipin.io
SUMMARY:Data类面试常说常考的ETL究竟是何方神圣？
DESCRIPTION:直播回放： \n \nETL分三部分：数据抽取、数据的清洗转换、数据的加载。是将业务系统的数据经过抽取、清洗转换之后加载到数据仓库的过程，目的是将企业中的分散、零乱、标准不统一的数据整合到一起，为企业的决策提供分析依据。 ETL是诸多数据类项目重要的一个环节。 通常情况下，在相关项目中ETL会花掉整个项目很大比例的时间时间\,ETL设计的好坏直接关接到项目的成败。 大家在北美面试数据类岗位是，经常遇到ETL相关的要求和问题，那么如何学习这一概念，如何应对相关的面试问题呢？今天的直播和大家一起讨论。 \n 
URL:https://aipin.io/event/etl-explained/
END:VEVENT
END:VCALENDAR